BEGIN:VCALENDAR
VERSION:2.0
PRODID:-//Mackenzie&#039;s Animal Sanctuary - ECPv6.15.20//NONSGML v1.0//EN
CALSCALE:GREGORIAN
METHOD:PUBLISH
X-WR-CALNAME:Mackenzie&#039;s Animal Sanctuary
X-ORIGINAL-URL:https://mackenzies.info
X-WR-CALDESC:Events for Mackenzie&#039;s Animal Sanctuary
REFRESH-INTERVAL;VALUE=DURATION:PT1H
X-Robots-Tag:noindex
X-PUBLISHED-TTL:PT1H
BEGIN:VTIMEZONE
TZID:America/Detroit
BEGIN:DAYLIGHT
TZOFFSETFROM:-0500
TZOFFSETTO:-0400
TZNAME:EDT
DTSTART:20250309T070000
END:DAYLIGHT
BEGIN:STANDARD
TZOFFSETFROM:-0400
TZOFFSETTO:-0500
TZNAME:EST
DTSTART:20251102T060000
END:STANDARD
BEGIN:DAYLIGHT
TZOFFSETFROM:-0500
TZOFFSETTO:-0400
TZNAME:EDT
DTSTART:20260308T070000
END:DAYLIGHT
BEGIN:STANDARD
TZOFFSETFROM:-0400
TZOFFSETTO:-0500
TZNAME:EST
DTSTART:20261101T060000
END:STANDARD
BEGIN:DAYLIGHT
TZOFFSETFROM:-0500
TZOFFSETTO:-0400
TZNAME:EDT
DTSTART:20270314T070000
END:DAYLIGHT
BEGIN:STANDARD
TZOFFSETFROM:-0400
TZOFFSETTO:-0500
TZNAME:EST
DTSTART:20271107T060000
END:STANDARD
END:VTIMEZONE
BEGIN:VEVENT
DTSTART;TZID=America/Detroit:20260426T143000
DTEND;TZID=America/Detroit:20260426T160000
DTSTAMP:20260423T082716
CREATED:20260421T142018Z
LAST-MODIFIED:20260422T172535Z
UID:5088-1777213800-1777219200@mackenzies.info
SUMMARY:Pups & Poses
DESCRIPTION:Get ready to pet\, play\, and flow alongside our adorable adoptable dogs with Kula Yoga! \nMove on your mat through a gentle Vinyasa flow\, led by Natalia\, while friendly dogs weave on and around your space. Pause for a snuggle or a wet-nosed kiss\, then enjoy hang time with the pups post-flow. Fall in love with a companion during class? Fill out an adoption application on-site and get ready to take your fur-ever family member home! \nBring your yoga mat\, towel\, and water bottle. \nSunday\, April 26 @ 2:30-3:45p @ Mackenzie’s Animal Sanctuary \n8935 Thompson Rd\, Lake Odessa\, Michigan \n$25 / ticket \nA portion of each ticket sold will be given to Mackenzie’s Animal Sanctuary. Donations of dog treats\, canned food\, heavy-duty chew toys\, paper towels\, sanitizing wipes\, Dawn dish soap\, and sponges are appreciated as well. \nGet your tickets here: https://bit.ly/4emwsJE \n 
URL:https://mackenzies.info/event/pups-poses-2/
LOCATION:Mackenzie’s Animal Sanctaury\, 8935 Thompson Rd.\, Lake Odessa\, MI\, 48849
END:VEVENT
END:VCALENDAR